BEGIN:VCALENDAR
VERSION:2.0
PRODID:-//Set &amp; De Buurt | Ijburg - ECPv6.15.20//NONSGML v1.0//EN
CALSCALE:GREGORIAN
METHOD:PUBLISH
X-ORIGINAL-URL:https://www.set-ijburg.nl
X-WR-CALDESC:Evenementen voor Set &amp; De Buurt | Ijburg
REFRESH-INTERVAL;VALUE=DURATION:PT1H
X-Robots-Tag:noindex
X-PUBLISHED-TTL:PT1H
BEGIN:VTIMEZONE
TZID:Europe/Helsinki
BEGIN:DAYLIGHT
TZOFFSETFROM:+0200
TZOFFSETTO:+0300
TZNAME:EEST
DTSTART:20250330T010000
END:DAYLIGHT
BEGIN:STANDARD
TZOFFSETFROM:+0300
TZOFFSETTO:+0200
TZNAME:EET
DTSTART:20251026T010000
END:STANDARD
BEGIN:DAYLIGHT
TZOFFSETFROM:+0200
TZOFFSETTO:+0300
TZNAME:EEST
DTSTART:20260329T010000
END:DAYLIGHT
BEGIN:STANDARD
TZOFFSETFROM:+0300
TZOFFSETTO:+0200
TZNAME:EET
DTSTART:20261025T010000
END:STANDARD
BEGIN:DAYLIGHT
TZOFFSETFROM:+0200
TZOFFSETTO:+0300
TZNAME:EEST
DTSTART:20270328T010000
END:DAYLIGHT
BEGIN:STANDARD
TZOFFSETFROM:+0300
TZOFFSETTO:+0200
TZNAME:EET
DTSTART:20271031T010000
END:STANDARD
END:VTIMEZONE
BEGIN:VEVENT
DTSTART;TZID=Europe/Helsinki:20260422T170000
DTEND;TZID=Europe/Helsinki:20260422T190000
DTSTAMP:20260421T171051
CREATED:20260420T133759Z
LAST-MODIFIED:20260420T133759Z
UID:38012-1776877200-1776884400@www.set-ijburg.nl
SUMMARY:Repair en Textiel Cafe
DESCRIPTION:
URL:https://www.set-ijburg.nl/evenementen/repair-en-textiel-cafe/
LOCATION:Wereldhuiskamer\, Erich Salomonstraat 135 -151\, Amsterdam\, 1087AV
CATEGORIES:Circulair Cafe
ATTACH;FMTTYPE=image/jpeg:https://www.set-ijburg.nl/wp-content/uploads/2026/04/WhatsApp-Image-2026-04-15-at-15.10.19-1.jpeg
END:VEVENT
END:VCALENDAR